BEGIN:VCALENDAR
PRODID:-//eluceo/ical//2.0/EN
VERSION:2.0
CALSCALE:GREGORIAN
BEGIN:VEVENT
UID:event-420
DTSTAMP:20260422T143215Z
SUMMARY:Parent Day
DESCRIPTION:On Saturday\, June 6th\, the VESTING Parent Day will take place
 ! This is the perfect opportunity to bring your parents along and show how
  you apply what you've learned in your studies. EOR professors will presen
 t some interesting cases\, and we will demonstrate what EOR(AS) and VESTIN
 G are all about. There will also be drinks and food available. More inform
 ation will follow soon! We hope to see you and your family there!
DTSTART:20260606T100000Z
DTEND:20260606T123000Z
END:VEVENT
BEGIN:VTIMEZONE
TZID:UTC
BEGIN:STANDARD
DTSTART:20260606T100000
TZNAME:UTC
TZOFFSETTO:+0000
TZOFFSETFROM:+0000
END:STANDARD
END:VTIMEZONE
END:VCALENDAR
