BEGIN:VCALENDAR
PRODID:-//eluceo/ical//2.0/EN
VERSION:2.0
CALSCALE:GREGORIAN
BEGIN:VEVENT
UID:event-297
DTSTAMP:20260421T085118Z
SUMMARY:LED 2025 Enrollments
DESCRIPTION:Enrollments for the LED 2025 open on November 25th\, 20:25!! Ge
 t your tickets here!  The National Econometricians Day (in Dutch: Landel
 ijke Econometristendag\, abbreviated as LED) is the largest annual recruit
 ment event for students in the fields of econometrics\, operations researc
 h\, data science\, and actuarial sciences in The Netherlands. On this day\
 , over 600 students get the opportunity to orientate themselves on their f
 uture careers and get in contact with their potential future employers. To
 gether with a wide range of companies\, we provide interesting speakers\, 
 cases\, and speeddate sessions to make this edition a networking event to 
 remember! Do not miss out on the once-in-a-lifetime opportunity to give yo
 ur career a kick-start! The day is centred around broadening your knowledg
 e of companies that are interested in students in the fields of Econometri
 cs\, Operations Research\, Data Science and Actuarial Sciences. During the
  cases\, you'll get an insight into what type of work the company does\, a
 nd work on the provided case. For some more general information\, and to a
 sk your own questions\, you can walk around our Company Fair or join the S
 peeddates. The recruiters are there to answer all your questions\, and to 
 get to know you as well! The LED is aimed at all students in the fields of
  Econometrics\, Operations Research\, Data Science and Actuarial Sciences 
 in the Netherlands in their third year or higher. In order to participate
  at the LED\, you need to be a member of one of the six study association
 s for Econometrics and Operations Research in the Netherlands. Read all a
 bout the LED 2025 on their website
DTSTART:20241125T192500Z
DTEND:20241125T225959Z
END:VEVENT
BEGIN:VTIMEZONE
TZID:UTC
BEGIN:STANDARD
DTSTART:20241125T192500
TZNAME:UTC
TZOFFSETTO:+0000
TZOFFSETFROM:+0000
END:STANDARD
END:VTIMEZONE
END:VCALENDAR
